BEGIN:VCALENDAR
VERSION:2.0
PRODID:-//Tandem - ECPv6.15.12//NONSGML v1.0//EN
CALSCALE:GREGORIAN
METHOD:PUBLISH
X-ORIGINAL-URL:https://www.tandembayarea.org
X-WR-CALDESC:Events for Tandem
REFRESH-INTERVAL;VALUE=DURATION:PT1H
X-Robots-Tag:noindex
X-PUBLISHED-TTL:PT1H
BEGIN:VTIMEZONE
TZID:America/Los_Angeles
BEGIN:DAYLIGHT
TZOFFSETFROM:-0800
TZOFFSETTO:-0700
TZNAME:PDT
DTSTART:20170312T100000
END:DAYLIGHT
BEGIN:STANDARD
TZOFFSETFROM:-0700
TZOFFSETTO:-0800
TZNAME:PST
DTSTART:20171105T090000
END:STANDARD
BEGIN:DAYLIGHT
TZOFFSETFROM:-0800
TZOFFSETTO:-0700
TZNAME:PDT
DTSTART:20180311T100000
END:DAYLIGHT
BEGIN:STANDARD
TZOFFSETFROM:-0700
TZOFFSETTO:-0800
TZNAME:PST
DTSTART:20181104T090000
END:STANDARD
BEGIN:DAYLIGHT
TZOFFSETFROM:-0800
TZOFFSETTO:-0700
TZNAME:PDT
DTSTART:20190310T100000
END:DAYLIGHT
BEGIN:STANDARD
TZOFFSETFROM:-0700
TZOFFSETTO:-0800
TZNAME:PST
DTSTART:20191103T090000
END:STANDARD
BEGIN:DAYLIGHT
TZOFFSETFROM:-0800
TZOFFSETTO:-0700
TZNAME:PDT
DTSTART:20200308T100000
END:DAYLIGHT
BEGIN:STANDARD
TZOFFSETFROM:-0700
TZOFFSETTO:-0800
TZNAME:PST
DTSTART:20201101T090000
END:STANDARD
BEGIN:DAYLIGHT
TZOFFSETFROM:-0800
TZOFFSETTO:-0700
TZNAME:PDT
DTSTART:20210314T100000
END:DAYLIGHT
BEGIN:STANDARD
TZOFFSETFROM:-0700
TZOFFSETTO:-0800
TZNAME:PST
DTSTART:20211107T090000
END:STANDARD
END:VTIMEZONE
BEGIN:VEVENT
DTSTART;TZID=America/Los_Angeles:20200408T183000
DTEND;TZID=America/Los_Angeles:20200408T203000
DTSTAMP:20260424T040043
CREATED:20190820T162829Z
LAST-MODIFIED:20190820T162829Z
UID:10000062-1586370600-1586377800@www.tandembayarea.org
SUMMARY:Talleres para educadores: Palabras por todos lados
DESCRIPTION:Recebirá cena\, libros infantiles y horas de desarrollo professional.\nEspacio limitado\, inscríbase https://bit.ly/SFtalleres
URL:https://www.tandembayarea.org/calendar/talleres-para-educadores-palabras-por-todos-lados/
LOCATION:Children’s Council of San Francisco\, 445 Church Street\, San Francisco\, CA\, 94114\, United States
ORGANIZER;CN="Tandem%2C Partners in Early Learning":MAILTO:info@tandembayarea.org
END:VEVENT
BEGIN:VEVENT
DTSTART;TZID=America/Los_Angeles:20200205T183000
DTEND;TZID=America/Los_Angeles:20200205T203000
DTSTAMP:20260424T040043
CREATED:20190820T161046Z
LAST-MODIFIED:20190820T161046Z
UID:10000061-1580927400-1580934600@www.tandembayarea.org
SUMMARY:Talleres para educadores: DRDP - ¡¿Con la D de divertido?!
DESCRIPTION:Recebirá cena\, libros infantiles y horas de desarrollo professional.\nEspacio limitado\, inscríbase https://bit.ly/SFtalleres
URL:https://www.tandembayarea.org/calendar/talleres-para-educadores-drdp-con-la-d-de-divertido/
LOCATION:Children’s Council of San Francisco\, 445 Church Street\, San Francisco\, CA\, 94114\, United States
ORGANIZER;CN="Tandem%2C Partners in Early Learning":MAILTO:info@tandembayarea.org
END:VEVENT
BEGIN:VEVENT
DTSTART;TZID=America/Los_Angeles:20191205T183000
DTEND;TZID=America/Los_Angeles:20191205T203000
DTSTAMP:20260424T040043
CREATED:20190820T160806Z
LAST-MODIFIED:20190820T160806Z
UID:10000060-1575570600-1575577800@www.tandembayarea.org
SUMMARY:Talleres para educadores: Apoyando a familias multilingües
DESCRIPTION:Recebirá cena\, libros infantiles y horas de desarrollo professional.\nEspacio limitado\, inscríbase https://bit.ly/SFtalleres
URL:https://www.tandembayarea.org/calendar/talleres-para-educadores-apoyando-a-familias-multilingues/
LOCATION:Children’s Council of San Francisco\, 445 Church Street\, San Francisco\, CA\, 94114\, United States
ORGANIZER;CN="Tandem%2C Partners in Early Learning":MAILTO:info@tandembayarea.org
END:VEVENT
BEGIN:VEVENT
DTSTART;TZID=America/Los_Angeles:20190925T183000
DTEND;TZID=America/Los_Angeles:20190925T203000
DTSTAMP:20260424T040043
CREATED:20190820T160314Z
LAST-MODIFIED:20190820T160416Z
UID:10000058-1569436200-1569443400@www.tandembayarea.org
SUMMARY:Talleres para educadores: Desarollo del cerebro y del lenguaje infantil
DESCRIPTION:Recebirá cena\, libros infantiles y horas de desarrollo professional.\nEspacio limitado\, inscríbase bit.ly/SFtalleres
URL:https://www.tandembayarea.org/calendar/talleres-para-educadores-desarollo-del-cerebro-y-del-lenguaje-infantil/
LOCATION:Children’s Council of San Francisco\, 445 Church Street\, San Francisco\, CA\, 94114\, United States
ORGANIZER;CN="Tandem%2C Partners in Early Learning":MAILTO:info@tandembayarea.org
END:VEVENT
BEGIN:VEVENT
DTSTART;TZID=America/Los_Angeles:20181008T183000
DTEND;TZID=America/Los_Angeles:20181008T183000
DTSTAMP:20260424T040043
CREATED:20180904T222701Z
LAST-MODIFIED:20181030T232526Z
UID:10000104-1539023400-1539023400@www.tandembayarea.org
SUMMARY:San Francisco Monthly Educator Training
DESCRIPTION:Join us the second Monday of every month from now until May 2019! \nOur fun\, interactive workshops draw on the knowledge and skills you already have as an experienced educator\, while offering practical tips and activities you can implement in your classroom tomorrow to explore new ways of getting your young students ready for kindergarten. \nDinner\, classroom books and certified professional development hours provided free of charge.   REGISTER FOR FREE on Eventbrite!\nClick here to download our flyer!
URL:https://www.tandembayarea.org/calendar/sf-monthly-educator-training-2/
LOCATION:Children’s Council of San Francisco\, 445 Church Street\, San Francisco\, CA\, 94114\, United States
ATTACH;FMTTYPE=image/jpeg:https://www.tandembayarea.org/wp-content/uploads/2018/09/0222_small-e1536102746176.jpg
END:VEVENT
END:VCALENDAR