BEGIN:VCALENDAR
VERSION:2.0
PRODID:-//Tandem - ECPv6.15.12//NONSGML v1.0//EN
CALSCALE:GREGORIAN
METHOD:PUBLISH
X-ORIGINAL-URL:https://www.tandembayarea.org
X-WR-CALDESC:Events for Tandem
REFRESH-INTERVAL;VALUE=DURATION:PT1H
X-Robots-Tag:noindex
X-PUBLISHED-TTL:PT1H
BEGIN:VTIMEZONE
TZID:America/Los_Angeles
BEGIN:DAYLIGHT
TZOFFSETFROM:-0800
TZOFFSETTO:-0700
TZNAME:PDT
DTSTART:20200308T100000
END:DAYLIGHT
BEGIN:STANDARD
TZOFFSETFROM:-0700
TZOFFSETTO:-0800
TZNAME:PST
DTSTART:20201101T090000
END:STANDARD
BEGIN:DAYLIGHT
TZOFFSETFROM:-0800
TZOFFSETTO:-0700
TZNAME:PDT
DTSTART:20210314T100000
END:DAYLIGHT
BEGIN:STANDARD
TZOFFSETFROM:-0700
TZOFFSETTO:-0800
TZNAME:PST
DTSTART:20211107T090000
END:STANDARD
BEGIN:DAYLIGHT
TZOFFSETFROM:-0800
TZOFFSETTO:-0700
TZNAME:PDT
DTSTART:20220313T100000
END:DAYLIGHT
BEGIN:STANDARD
TZOFFSETFROM:-0700
TZOFFSETTO:-0800
TZNAME:PST
DTSTART:20221106T090000
END:STANDARD
END:VTIMEZONE
BEGIN:VEVENT
DTSTART;TZID=America/Los_Angeles:20210224T180000
DTEND;TZID=America/Los_Angeles:20210224T190000
DTSTAMP:20260424T074935
CREATED:20210205T004255Z
LAST-MODIFIED:20210205T004255Z
UID:10000051-1614189600-1614193200@www.tandembayarea.org
SUMMARY:Live Author Panel: Celebrating Black Voices in Children's Literature
DESCRIPTION:Hear four favorite Tandem authors talking about why they write\, what their books are about\, and what they want children and grownups to take away from reading them! \n  \nFREE EVENT: Register now to save your spot!
URL:https://www.tandembayarea.org/calendar/live-author-panel-celebrating-black-voices-in-childrens-literature/
LOCATION:Zoom
ORGANIZER;CN="Tandem%2C Partners in Early Learning":MAILTO:info@tandembayarea.org
END:VEVENT
END:VCALENDAR