BEGIN:VCALENDAR
VERSION:2.0
PRODID:-//Tandem - ECPv6.15.12//NONSGML v1.0//EN
CALSCALE:GREGORIAN
METHOD:PUBLISH
X-WR-CALNAME:Tandem
X-ORIGINAL-URL:https://www.tandembayarea.org
X-WR-CALDESC:Events for Tandem
REFRESH-INTERVAL;VALUE=DURATION:PT1H
X-Robots-Tag:noindex
X-PUBLISHED-TTL:PT1H
BEGIN:VTIMEZONE
TZID:America/Los_Angeles
BEGIN:DAYLIGHT
TZOFFSETFROM:-0800
TZOFFSETTO:-0700
TZNAME:PDT
DTSTART:20170312T100000
END:DAYLIGHT
BEGIN:STANDARD
TZOFFSETFROM:-0700
TZOFFSETTO:-0800
TZNAME:PST
DTSTART:20171105T090000
END:STANDARD
BEGIN:DAYLIGHT
TZOFFSETFROM:-0800
TZOFFSETTO:-0700
TZNAME:PDT
DTSTART:20180311T100000
END:DAYLIGHT
BEGIN:STANDARD
TZOFFSETFROM:-0700
TZOFFSETTO:-0800
TZNAME:PST
DTSTART:20181104T090000
END:STANDARD
BEGIN:DAYLIGHT
TZOFFSETFROM:-0800
TZOFFSETTO:-0700
TZNAME:PDT
DTSTART:20190310T100000
END:DAYLIGHT
BEGIN:STANDARD
TZOFFSETFROM:-0700
TZOFFSETTO:-0800
TZNAME:PST
DTSTART:20191103T090000
END:STANDARD
BEGIN:DAYLIGHT
TZOFFSETFROM:-0800
TZOFFSETTO:-0700
TZNAME:PDT
DTSTART:20200308T100000
END:DAYLIGHT
BEGIN:STANDARD
TZOFFSETFROM:-0700
TZOFFSETTO:-0800
TZNAME:PST
DTSTART:20201101T090000
END:STANDARD
BEGIN:DAYLIGHT
TZOFFSETFROM:-0800
TZOFFSETTO:-0700
TZNAME:PDT
DTSTART:20210314T100000
END:DAYLIGHT
BEGIN:STANDARD
TZOFFSETFROM:-0700
TZOFFSETTO:-0800
TZNAME:PST
DTSTART:20211107T090000
END:STANDARD
BEGIN:DAYLIGHT
TZOFFSETFROM:-0800
TZOFFSETTO:-0700
TZNAME:PDT
DTSTART:20220313T100000
END:DAYLIGHT
BEGIN:STANDARD
TZOFFSETFROM:-0700
TZOFFSETTO:-0800
TZNAME:PST
DTSTART:20221106T090000
END:STANDARD
BEGIN:DAYLIGHT
TZOFFSETFROM:-0800
TZOFFSETTO:-0700
TZNAME:PDT
DTSTART:20230312T100000
END:DAYLIGHT
BEGIN:STANDARD
TZOFFSETFROM:-0700
TZOFFSETTO:-0800
TZNAME:PST
DTSTART:20231105T090000
END:STANDARD
END:VTIMEZONE
BEGIN:VEVENT
DTSTART;TZID=America/Los_Angeles:20220813T110000
DTEND;TZID=America/Los_Angeles:20220813T140000
DTSTAMP:20260424T041957
CREATED:20220728T203945Z
LAST-MODIFIED:20220728T203947Z
UID:10000271-1660388400-1660399200@www.tandembayarea.org
SUMMARY:BMAGIC's Back to School Celebration & Backpack Giveaway
DESCRIPTION:Backpacks are first come\, first served. Open to youth in grades K-12 living in 94124. \n\nNo registration needed! Featuring a Bike Raffle\, Fashion Show\, Resource Fair & more!\nClick here to enter Bike Raffle\nEmail mariobthestylist@gmail.com for Fashion Show info.\n\n 
URL:https://www.tandembayarea.org/calendar/bmagics-back-to-school-celebration-backpack-giveaway/
LOCATION:NOW Hunters Point\, 155 Jennings Street\, San Francisco\, CA\, 94124\, United States
ATTACH;FMTTYPE=image/png:https://www.tandembayarea.org/wp-content/uploads/2022/07/BMAGIC-Backpack-giveaway_August-13.png
END:VEVENT
BEGIN:VEVENT
DTSTART;TZID=America/Los_Angeles:20220625T110000
DTEND;TZID=America/Los_Angeles:20220625T150000
DTSTAMP:20260424T041957
CREATED:20220602T193844Z
LAST-MODIFIED:20220602T193844Z
UID:10000138-1656154800-1656169200@www.tandembayarea.org
SUMMARY:Black & Beautiful Community Event
DESCRIPTION:Bayview families!\n\nEnjoy a day filled with family-friendly activities at the Bayview YMCA. Enjoy free food\, contests with prizes\, free haircuts\, music\, and more.\n\nThis event is hosted by:\nThe YMCA\nBlack Infant Health\nSan Francisco Health Network\nExpecting Justice\nUCSF Preterm Birth Initiative\nEMBRACE: Perinatal Care for Black Families
URL:https://www.tandembayarea.org/calendar/black-beautiful-community-event/
LOCATION:Bayview YMCA\, 1601 Lane Street\, San Francsico\, CA\, 94124\, United States
ATTACH;FMTTYPE=image/jpeg:https://www.tandembayarea.org/wp-content/uploads/2022/06/BHM-Event-Flyer-FINAL_06252022.jpg
END:VEVENT
BEGIN:VEVENT
DTSTART;TZID=America/Los_Angeles:20220625T103000
DTEND;TZID=America/Los_Angeles:20220625T150000
DTSTAMP:20260424T041957
CREATED:20220608T220823Z
LAST-MODIFIED:20220608T220824Z
UID:10000125-1656153000-1656169200@www.tandembayarea.org
SUMMARY:EcoCenter 12th Anniversary Community Celebration
DESCRIPTION:Enjoy FREE family activities\, food\, live performances\, and much more.  RSVP to attend! For more info\, call 415-676-1394.
URL:https://www.tandembayarea.org/calendar/ecocenter-12th-anniversary-community-celebration/
LOCATION:EcoCenter at Heron’s Head Park\, 32 Jennings Street\, San Francisco\, CA\, 94124\, United States
ATTACH;FMTTYPE=image/jpeg:https://www.tandembayarea.org/wp-content/uploads/2022/06/EcoCenter-12th-Anniversary-Flyer-Final-.jpg
END:VEVENT
BEGIN:VEVENT
DTSTART;TZID=America/Los_Angeles:20220624T130000
DTEND;TZID=America/Los_Angeles:20220624T170000
DTSTAMP:20260424T041957
CREATED:20220610T000729Z
LAST-MODIFIED:20220610T000730Z
UID:10000129-1656075600-1656090000@www.tandembayarea.org
SUMMARY:Bayview YMCA Kid's Day Event Summer Kick-off
DESCRIPTION:
URL:https://www.tandembayarea.org/calendar/bayview-ymca-kids-day-event-summer-kick-off/
LOCATION:Bayview YMCA\, 1601 Lane Street\, San Francsico\, CA\, 94124\, United States
ATTACH;FMTTYPE=image/jpeg:https://www.tandembayarea.org/wp-content/uploads/2022/06/Kids-Day-Summer-Kickoff-June-24_English.jpg
END:VEVENT
BEGIN:VEVENT
DTSTART;TZID=America/Los_Angeles:20220219T110000
DTEND;TZID=America/Los_Angeles:20220219T160000
DTSTAMP:20260424T041957
CREATED:20220209T190333Z
LAST-MODIFIED:20220210T170117Z
UID:10000249-1645268400-1645286400@www.tandembayarea.org
SUMMARY:Black Health and Wellness Through Art and Nature - Outdoor event!
DESCRIPTION:Join Tandem and our partners at the EcoCenter in Heron’s Head Park to celebrate Black History\, Excellence\, Health and Wellness\, and Honor our Local Black Environmentalists that made an impact against environmental injustices and have brought many changes to our community. \nJoin Tandem at 11:30am for an interactive read aloud! Throughout the day families will enjoy nature activities\, mural painting\, access to resources and much more. We hope to see you there! \n \n 
URL:https://www.tandembayarea.org/calendar/black-history-month-celebration/
LOCATION:Heron’s Head Park\, 32 Jennings St.\, San Francisco\, CA\, 94124
END:VEVENT
BEGIN:VEVENT
DTSTART;TZID=America/Los_Angeles:20200129T100000
DTEND;TZID=America/Los_Angeles:20200129T120000
DTSTAMP:20260424T041957
CREATED:20191205T000654Z
LAST-MODIFIED:20191205T000654Z
UID:10000001-1580292000-1580299200@www.tandembayarea.org
SUMMARY:Explore and Learn - Nature Play Event at Heron's Head Park
DESCRIPTION:Tandem is partnering with Edgewood FRC and the Eco-Center for a fun\, free event for families and children at Heron’s Head Park. More details to come.
URL:https://www.tandembayarea.org/calendar/explore-and-learn-nature-play-event-at-herons-head-park/
LOCATION:Heron’s Head Park\, 32 Jennings St.\, San Francisco\, CA\, 94124
END:VEVENT
BEGIN:VEVENT
DTSTART;TZID=America/Los_Angeles:20181115T170000
DTEND;TZID=America/Los_Angeles:20181115T190000
DTSTAMP:20260424T041957
CREATED:20181030T224532Z
LAST-MODIFIED:20181030T233323Z
UID:10000100-1542301200-1542308400@www.tandembayarea.org
SUMMARY:Third Thursdays - Family Workshop
DESCRIPTION:
URL:https://www.tandembayarea.org/calendar/third-thursdays-family-workshop-2/
LOCATION:Bayview Hill Gardens Apartments\, 1075 Le Conte Avenue\, San Francisco\, CA\, 94124\, United States
ORGANIZER;CN="Tandem%2C Partners in Early Learning":MAILTO:info@tandembayarea.org
END:VEVENT
END:VCALENDAR