BEGIN:VCALENDAR
VERSION:2.0
PRODID:-//Tandem - ECPv6.15.12//NONSGML v1.0//EN
CALSCALE:GREGORIAN
METHOD:PUBLISH
X-ORIGINAL-URL:https://www.tandembayarea.org
X-WR-CALDESC:Events for Tandem
REFRESH-INTERVAL;VALUE=DURATION:PT1H
X-Robots-Tag:noindex
X-PUBLISHED-TTL:PT1H
BEGIN:VTIMEZONE
TZID:America/Los_Angeles
BEGIN:DAYLIGHT
TZOFFSETFROM:-0800
TZOFFSETTO:-0700
TZNAME:PDT
DTSTART:20240310T100000
END:DAYLIGHT
BEGIN:STANDARD
TZOFFSETFROM:-0700
TZOFFSETTO:-0800
TZNAME:PST
DTSTART:20241103T090000
END:STANDARD
BEGIN:DAYLIGHT
TZOFFSETFROM:-0800
TZOFFSETTO:-0700
TZNAME:PDT
DTSTART:20250309T100000
END:DAYLIGHT
BEGIN:STANDARD
TZOFFSETFROM:-0700
TZOFFSETTO:-0800
TZNAME:PST
DTSTART:20251102T090000
END:STANDARD
BEGIN:DAYLIGHT
TZOFFSETFROM:-0800
TZOFFSETTO:-0700
TZNAME:PDT
DTSTART:20260308T100000
END:DAYLIGHT
BEGIN:STANDARD
TZOFFSETFROM:-0700
TZOFFSETTO:-0800
TZNAME:PST
DTSTART:20261101T090000
END:STANDARD
END:VTIMEZONE
BEGIN:VEVENT
DTSTART;TZID=America/Los_Angeles:20251211T190000
DTEND;TZID=America/Los_Angeles:20251211T203000
DTSTAMP:20260423T215250
CREATED:20251204T213729Z
LAST-MODIFIED:20251208T170806Z
UID:10000836-1765479600-1765485000@www.tandembayarea.org
SUMMARY:Workshop: Word Play All Day: Building Literacy Rich Environments
DESCRIPTION:Join us for a free online educator workshop! \nChildren learn language from everything around them and it’s never too early to start! Let’s talk about the Six Skills of Early Literacy and practice finding opportunities to build these skills anytime\, anywhere. \nEnglish with Cantonese Translation \nClick here to register. \nTo receive more event reminders directly to your inbox\, please register here: tandem.ngo/signup
URL:https://www.tandembayarea.org/calendar/workshop-word-play-all-day-building-literacy-rich-environments/
LOCATION:Zoom
END:VEVENT
BEGIN:VEVENT
DTSTART;TZID=America/Los_Angeles:20251210T113000
DTEND;TZID=America/Los_Angeles:20251210T123000
DTSTAMP:20260423T215250
CREATED:20251126T013531Z
LAST-MODIFIED:20251126T013531Z
UID:10000834-1765366200-1765369800@www.tandembayarea.org
SUMMARY:Rodeo Library GM5 Math with Pete the Cat
DESCRIPTION:
URL:https://www.tandembayarea.org/calendar/rodeo-library-gm5-math-with-pete-the-cat-2/
LOCATION:Rodeo Library – Contra Costa County Library\, 220 Pacific Ave\, Rodeo\, CA\, 94572\, United States
END:VEVENT
BEGIN:VEVENT
DTSTART;TZID=America/Los_Angeles:20251210T100000
DTEND;TZID=America/Los_Angeles:20251210T103000
DTSTAMP:20260423T215250
CREATED:20250711T220604Z
LAST-MODIFIED:20260328T001937Z
UID:10000727-1765360800-1765362600@www.tandembayarea.org
SUMMARY:Spanish Zoom Read Aloud
DESCRIPTION:
URL:https://www.tandembayarea.org/calendar/spanish-zoom-read-aloud-10/2025-12-10/
LOCATION:CA
ORGANIZER;CN="Tandem%2C Partners in Early Learning":MAILTO:info@tandembayarea.org
END:VEVENT
BEGIN:VEVENT
DTSTART;TZID=America/Los_Angeles:20251203T100000
DTEND;TZID=America/Los_Angeles:20251203T103000
DTSTAMP:20260423T215250
CREATED:20250711T215410Z
LAST-MODIFIED:20260328T001634Z
UID:10000718-1764756000-1764757800@www.tandembayarea.org
SUMMARY:English Zoom Read Aloud
DESCRIPTION:
URL:https://www.tandembayarea.org/calendar/english-zoom-read-aloud-10/2025-12-03/
LOCATION:CA
ORGANIZER;CN="Tandem%2C Partners in Early Learning":MAILTO:info@tandembayarea.org
END:VEVENT
BEGIN:VEVENT
DTSTART;TZID=America/Los_Angeles:20251125T103000
DTEND;TZID=America/Los_Angeles:20251125T110000
DTSTAMP:20260423T215250
CREATED:20251028T234955Z
LAST-MODIFIED:20251028T234955Z
UID:10000830-1764066600-1764068400@www.tandembayarea.org
SUMMARY:Community Read Aloud at Pittsburg Library
DESCRIPTION:
URL:https://www.tandembayarea.org/calendar/community-read-aloud-at-pittsburg-library-15/
LOCATION:Pittsburg Library – Contra Costa County Library\, 80 Power Ave\, Pittsburg\, CA\, 94565\, United States
END:VEVENT
BEGIN:VEVENT
DTSTART;TZID=America/Los_Angeles:20251120T110000
DTEND;TZID=America/Los_Angeles:20251120T113000
DTSTAMP:20260423T215250
CREATED:20251028T234628Z
LAST-MODIFIED:20251028T234628Z
UID:10000829-1763636400-1763638200@www.tandembayarea.org
SUMMARY:Community Read Aloud at Antioch Library
DESCRIPTION:
URL:https://www.tandembayarea.org/calendar/community-read-aloud-at-antioch-library-13/
LOCATION:Antioch Public Library\, 501 West 18th Street\, Meeting Room\, Antioch\, CA\, 94531\, United States
END:VEVENT
BEGIN:VEVENT
DTSTART;TZID=America/Los_Angeles:20251119T100000
DTEND;TZID=America/Los_Angeles:20251119T103000
DTSTAMP:20260423T215250
CREATED:20250711T224022Z
LAST-MODIFIED:20260328T002241Z
UID:10000735-1763546400-1763548200@www.tandembayarea.org
SUMMARY:Cantonese Zoom Read Aloud
DESCRIPTION:
URL:https://www.tandembayarea.org/calendar/cantonese-zoom-read-aloud-10/2025-11-19/
LOCATION:CA
ORGANIZER;CN="Tandem%2C Partners in Early Learning":MAILTO:info@tandembayarea.org
END:VEVENT
BEGIN:VEVENT
DTSTART;TZID=America/Los_Angeles:20251115T100000
DTEND;TZID=America/Los_Angeles:20251115T130000
DTSTAMP:20260423T215250
CREATED:20251028T235642Z
LAST-MODIFIED:20251028T235642Z
UID:10000831-1763200800-1763211600@www.tandembayarea.org
SUMMARY:Family Resource Fair in West Contra Costa County
DESCRIPTION:
URL:https://www.tandembayarea.org/calendar/family-resource-fair-in-west-contra-costa-county/
LOCATION:Cesar Chavez Elementary School\, 960 17th Street\, Richmond\, CA\, 94801\, United States
END:VEVENT
BEGIN:VEVENT
DTSTART;TZID=America/Los_Angeles:20251112T113000
DTEND;TZID=America/Los_Angeles:20251112T123000
DTSTAMP:20260423T215250
CREATED:20251028T233819Z
LAST-MODIFIED:20251028T233848Z
UID:10000828-1762947000-1762950600@www.tandembayarea.org
SUMMARY:Rodeo Library GM5 Math with Pete the Cat
DESCRIPTION:
URL:https://www.tandembayarea.org/calendar/gm5-math-at-rodeo-library-with-pete-the-cat/
LOCATION:Rodeo Library – Contra Costa County Library\, 220 Pacific Ave\, Rodeo\, CA\, 94572\, United States
END:VEVENT
BEGIN:VEVENT
DTSTART;TZID=America/Los_Angeles:20251112T100000
DTEND;TZID=America/Los_Angeles:20251112T103000
DTSTAMP:20260423T215250
CREATED:20250711T220604Z
LAST-MODIFIED:20260328T001937Z
UID:10000726-1762941600-1762943400@www.tandembayarea.org
SUMMARY:Spanish Zoom Read Aloud
DESCRIPTION:
URL:https://www.tandembayarea.org/calendar/spanish-zoom-read-aloud-10/2025-11-12/
LOCATION:CA
ORGANIZER;CN="Tandem%2C Partners in Early Learning":MAILTO:info@tandembayarea.org
END:VEVENT
BEGIN:VEVENT
DTSTART;TZID=America/Los_Angeles:20251105T100000
DTEND;TZID=America/Los_Angeles:20251105T103000
DTSTAMP:20260423T215250
CREATED:20250711T215410Z
LAST-MODIFIED:20260328T001634Z
UID:10000717-1762336800-1762338600@www.tandembayarea.org
SUMMARY:English Zoom Read Aloud
DESCRIPTION:
URL:https://www.tandembayarea.org/calendar/english-zoom-read-aloud-10/2025-11-05/
LOCATION:CA
ORGANIZER;CN="Tandem%2C Partners in Early Learning":MAILTO:info@tandembayarea.org
END:VEVENT
BEGIN:VEVENT
DTSTART;TZID=America/Los_Angeles:20251105T000000
DTEND;TZID=America/Los_Angeles:20251105T000000
DTSTAMP:20260423T215250
CREATED:20250711T215012Z
LAST-MODIFIED:20251118T184932Z
UID:10000832-1762300800-1762300800@www.tandembayarea.org
SUMMARY:English Zoom Read Aloud
DESCRIPTION:
URL:https://www.tandembayarea.org/calendar/english-zoom-read-aloud-9/
LOCATION:CA
END:VEVENT
BEGIN:VEVENT
DTSTART;TZID=America/Los_Angeles:20251030T103000
DTEND;TZID=America/Los_Angeles:20251030T120000
DTSTAMP:20260423T215250
CREATED:20251001T152454Z
LAST-MODIFIED:20251001T152653Z
UID:10000815-1761820200-1761825600@www.tandembayarea.org
SUMMARY:Children's Fairyland\, Play and Learn Group
DESCRIPTION:Join Tandem\, Partners in Early Learning at these interactive learning sessions that are designed for both caregivers and children (ages 0-5). Discover new books and literacy/math activities at each session. Free book giveaways\, snacks\, and refreshments for participants. This programming is being funded and made possible by Oakland Fund for Children and Youth. \nEmail: carolina@tandembayarea.org to be registered for this event.
URL:https://www.tandembayarea.org/calendar/childrens-fairyland-play-and-learn-group-3/2025-10-30/
LOCATION:Children’s Fairyland\, 699 BELLEVUE AVE\, Oakland\, CA\, 94610\, United States
END:VEVENT
BEGIN:VEVENT
DTSTART;TZID=America/Los_Angeles:20251028T103000
DTEND;TZID=America/Los_Angeles:20251028T110000
DTSTAMP:20260423T215250
CREATED:20251001T154603Z
LAST-MODIFIED:20251001T154603Z
UID:10000825-1761647400-1761649200@www.tandembayarea.org
SUMMARY:Community Read Aloud at Pittsburg Library
DESCRIPTION:
URL:https://www.tandembayarea.org/calendar/community-read-aloud-at-pittsburg-library-14/
LOCATION:Pittsburg Library – Contra Costa County Library\, 80 Power Ave\, Pittsburg\, CA\, 94565\, United States
END:VEVENT
BEGIN:VEVENT
DTSTART;TZID=America/Los_Angeles:20251028T100000
DTEND;TZID=America/Los_Angeles:20251028T113000
DTSTAMP:20260423T215250
CREATED:20251001T155945Z
LAST-MODIFIED:20251001T155945Z
UID:10000827-1761645600-1761651000@www.tandembayarea.org
SUMMARY:Explore and Learn
DESCRIPTION:Join the Explore and Learn program where we want parents and children to connect with nature through stories and outdoor activities.
URL:https://www.tandembayarea.org/calendar/explore-and-learn/
LOCATION:India Basin Shoreline Park\, Hunters Point Blvd & Hawes St\, 950 Galvez Ave\, San Francisco\, CA\, 94124\, United States
END:VEVENT
BEGIN:VEVENT
DTSTART;TZID=America/Los_Angeles:20251025T110000
DTEND;TZID=America/Los_Angeles:20251025T150000
DTSTAMP:20260423T215250
CREATED:20251001T155234Z
LAST-MODIFIED:20251001T155409Z
UID:10000826-1761390000-1761404400@www.tandembayarea.org
SUMMARY:Hayward Promise Fest Trunk or Treat 2025
DESCRIPTION:Tandem will be partnering with Hayward Promise and other organizations to hand out books\, resources\, and candy to the community! Bring your costumes and we’ll see you there! \nTrunk Treat 2025 Promisefest Spanish Flyer 
URL:https://www.tandembayarea.org/calendar/hayward-promise-trunk-or-treat-fest-2025/
LOCATION:Heritage Plaza- Downtown Hayward\, 835 C St\, Hayward\, CA\, United States
ATTACH;FMTTYPE=application/pdf:https://www.tandembayarea.org/wp-content/uploads/2025/10/Trunk-Treat-2025-Promisefest.pdf
END:VEVENT
BEGIN:VEVENT
DTSTART;TZID=America/Los_Angeles:20251023T100000
DTEND;TZID=America/Los_Angeles:20251023T110000
DTSTAMP:20260423T215250
CREATED:20251001T154325Z
LAST-MODIFIED:20251001T154325Z
UID:10000822-1761213600-1761217200@www.tandembayarea.org
SUMMARY:Community Read Aloud Hijas Del Campo
DESCRIPTION:
URL:https://www.tandembayarea.org/calendar/community-read-aloud-hijas-del-campo/
LOCATION:CA
END:VEVENT
BEGIN:VEVENT
DTSTART;TZID=America/Los_Angeles:20251021T103000
DTEND;TZID=America/Los_Angeles:20251021T110000
DTSTAMP:20260423T215250
CREATED:20251001T153941Z
LAST-MODIFIED:20251001T153941Z
UID:10000821-1761042600-1761044400@www.tandembayarea.org
SUMMARY:Community Read Aloud at Ortega Library
DESCRIPTION:Presented in Cantonese.
URL:https://www.tandembayarea.org/calendar/community-read-aloud-at-ortega-library-6/
LOCATION:Ortega Branch Library\, 3223 Ortega St\, San Francisco\, CA\, 94122
END:VEVENT
BEGIN:VEVENT
DTSTART;TZID=America/Los_Angeles:20251016T110000
DTEND;TZID=America/Los_Angeles:20251016T113000
DTSTAMP:20260423T215250
CREATED:20251001T153731Z
LAST-MODIFIED:20251001T153731Z
UID:10000820-1760612400-1760614200@www.tandembayarea.org
SUMMARY:Community Read Aloud at Antioch Library
DESCRIPTION:
URL:https://www.tandembayarea.org/calendar/community-read-aloud-at-antioch-library-12/
LOCATION:Antioch Public Library\, 501 West 18th Street\, Meeting Room\, Antioch\, CA\, 94531\, United States
END:VEVENT
BEGIN:VEVENT
DTSTART;TZID=America/Los_Angeles:20251016T103000
DTEND;TZID=America/Los_Angeles:20251016T120000
DTSTAMP:20260423T215250
CREATED:20251001T152454Z
LAST-MODIFIED:20251001T152653Z
UID:10000814-1760610600-1760616000@www.tandembayarea.org
SUMMARY:Children's Fairyland\, Play and Learn Group
DESCRIPTION:Join Tandem\, Partners in Early Learning at these interactive learning sessions that are designed for both caregivers and children (ages 0-5). Discover new books and literacy/math activities at each session. Free book giveaways\, snacks\, and refreshments for participants. This programming is being funded and made possible by Oakland Fund for Children and Youth. \nEmail: carolina@tandembayarea.org to be registered for this event.
URL:https://www.tandembayarea.org/calendar/childrens-fairyland-play-and-learn-group-3/2025-10-16/
LOCATION:Children’s Fairyland\, 699 BELLEVUE AVE\, Oakland\, CA\, 94610\, United States
END:VEVENT
BEGIN:VEVENT
DTSTART;TZID=America/Los_Angeles:20251015T100000
DTEND;TZID=America/Los_Angeles:20251015T103000
DTSTAMP:20260423T215250
CREATED:20250711T224022Z
LAST-MODIFIED:20260328T002241Z
UID:10000734-1760522400-1760524200@www.tandembayarea.org
SUMMARY:Cantonese Zoom Read Aloud
DESCRIPTION:
URL:https://www.tandembayarea.org/calendar/cantonese-zoom-read-aloud-10/2025-10-15/
LOCATION:CA
ORGANIZER;CN="Tandem%2C Partners in Early Learning":MAILTO:info@tandembayarea.org
END:VEVENT
BEGIN:VEVENT
DTSTART;TZID=America/Los_Angeles:20251008T113000
DTEND;TZID=America/Los_Angeles:20251008T123000
DTSTAMP:20260423T215250
CREATED:20251001T153524Z
LAST-MODIFIED:20251001T153524Z
UID:10000819-1759923000-1759926600@www.tandembayarea.org
SUMMARY:Rodeo Library GM5 Math with Pete the Cat
DESCRIPTION:
URL:https://www.tandembayarea.org/calendar/rodeo-library-gm5-math-with-pete-the-cat/
LOCATION:Rodeo Library – Contra Costa County Library\, 220 Pacific Ave\, Rodeo\, CA\, 94572\, United States
END:VEVENT
BEGIN:VEVENT
DTSTART;TZID=America/Los_Angeles:20251008T100000
DTEND;TZID=America/Los_Angeles:20251008T103000
DTSTAMP:20260423T215250
CREATED:20250711T220604Z
LAST-MODIFIED:20260328T001937Z
UID:10000725-1759917600-1759919400@www.tandembayarea.org
SUMMARY:Spanish Zoom Read Aloud
DESCRIPTION:
URL:https://www.tandembayarea.org/calendar/spanish-zoom-read-aloud-10/2025-10-08/
LOCATION:CA
ORGANIZER;CN="Tandem%2C Partners in Early Learning":MAILTO:info@tandembayarea.org
END:VEVENT
BEGIN:VEVENT
DTSTART;TZID=America/Los_Angeles:20251002T103000
DTEND;TZID=America/Los_Angeles:20251002T120000
DTSTAMP:20260423T215250
CREATED:20251001T152454Z
LAST-MODIFIED:20251001T152653Z
UID:10000818-1759401000-1759406400@www.tandembayarea.org
SUMMARY:Children's Fairyland\, Play and Learn Group
DESCRIPTION:Join Tandem\, Partners in Early Learning at these interactive learning sessions that are designed for both caregivers and children (ages 0-5). Discover new books and literacy/math activities at each session. Free book giveaways\, snacks\, and refreshments for participants. This programming is being funded and made possible by Oakland Fund for Children and Youth. \nEmail: carolina@tandembayarea.org to be registered for this event.
URL:https://www.tandembayarea.org/calendar/childrens-fairyland-play-and-learn-group-3/2025-10-02/
LOCATION:Children’s Fairyland\, 699 BELLEVUE AVE\, Oakland\, CA\, 94610\, United States
END:VEVENT
BEGIN:VEVENT
DTSTART;TZID=America/Los_Angeles:20251001T100000
DTEND;TZID=America/Los_Angeles:20251001T103000
DTSTAMP:20260423T215250
CREATED:20250711T215410Z
LAST-MODIFIED:20260328T001634Z
UID:10000716-1759312800-1759314600@www.tandembayarea.org
SUMMARY:English Zoom Read Aloud
DESCRIPTION:
URL:https://www.tandembayarea.org/calendar/english-zoom-read-aloud-10/2025-10-01/
LOCATION:CA
ORGANIZER;CN="Tandem%2C Partners in Early Learning":MAILTO:info@tandembayarea.org
END:VEVENT
BEGIN:VEVENT
DTSTART;TZID=America/Los_Angeles:20250925T103000
DTEND;TZID=America/Los_Angeles:20250925T110000
DTSTAMP:20260423T215250
CREATED:20250902T164411Z
LAST-MODIFIED:20250902T164411Z
UID:10000810-1758796200-1758798000@www.tandembayarea.org
SUMMARY:Community Read Aloud at Pinole Library
DESCRIPTION:
URL:https://www.tandembayarea.org/calendar/community-read-aloud-at-pinole-library-7/
LOCATION:Pinole Public Library\, 2935 Pinole Valley Road\, Pinole\, CA\, 94564\, United States
END:VEVENT
BEGIN:VEVENT
DTSTART;TZID=America/Los_Angeles:20250923T103000
DTEND;TZID=America/Los_Angeles:20250923T110000
DTSTAMP:20260423T215250
CREATED:20250902T164300Z
LAST-MODIFIED:20250902T164300Z
UID:10000809-1758623400-1758625200@www.tandembayarea.org
SUMMARY:Community Read Aloud at Pittsburg Library
DESCRIPTION:
URL:https://www.tandembayarea.org/calendar/community-read-aloud-at-pittsburg-library-13/
LOCATION:Pittsburg Library – Contra Costa County Library\, 80 Power Ave\, Pittsburg\, CA\, 94565\, United States
END:VEVENT
BEGIN:VEVENT
DTSTART;TZID=America/Los_Angeles:20250918T110000
DTEND;TZID=America/Los_Angeles:20250918T120000
DTSTAMP:20260423T215250
CREATED:20250902T164135Z
LAST-MODIFIED:20250902T164135Z
UID:10000808-1758193200-1758196800@www.tandembayarea.org
SUMMARY:Community Read Aloud at Antioch Library
DESCRIPTION:
URL:https://www.tandembayarea.org/calendar/community-read-aloud-at-antioch-library-11/
LOCATION:Antioch Public Library\, 501 West 18th Street\, Meeting Room\, Antioch\, CA\, 94531\, United States
END:VEVENT
BEGIN:VEVENT
DTSTART;TZID=America/Los_Angeles:20250918T103000
DTEND;TZID=America/Los_Angeles:20250918T120000
DTSTAMP:20260423T215250
CREATED:20250902T163354Z
LAST-MODIFIED:20250902T163354Z
UID:10000805-1758191400-1758196800@www.tandembayarea.org
SUMMARY:Children's Fairyland\, Play and Learn Group
DESCRIPTION:Join Tandem\, Partners in Early Learning at these interactive learning sessions that are designed for both caregivers and children (ages 0-5). Discover new books and literacy/math activities at each session. Free book giveaways\, snacks\, and refreshments for participants. This programming is being funded and made possible by Oakland Fund for Children and Youth. \nEmail: carolina@tandembayarea.org to be registered for this event.
URL:https://www.tandembayarea.org/calendar/childrens-fairyland-play-and-learn-group-2/2025-09-18/
LOCATION:Children’s Fairyland\, 699 BELLEVUE AVE\, Oakland\, CA\, 94610\, United States
END:VEVENT
BEGIN:VEVENT
DTSTART;TZID=America/Los_Angeles:20250917T100000
DTEND;TZID=America/Los_Angeles:20250917T103000
DTSTAMP:20260423T215250
CREATED:20250711T224022Z
LAST-MODIFIED:20260328T002241Z
UID:10000733-1758103200-1758105000@www.tandembayarea.org
SUMMARY:Cantonese Zoom Read Aloud
DESCRIPTION:
URL:https://www.tandembayarea.org/calendar/cantonese-zoom-read-aloud-10/2025-09-17/
LOCATION:CA
ORGANIZER;CN="Tandem%2C Partners in Early Learning":MAILTO:info@tandembayarea.org
END:VEVENT
END:VCALENDAR