BEGIN:VCALENDAR
VERSION:2.0
PRODID:-//Tandem - ECPv6.15.12//NONSGML v1.0//EN
CALSCALE:GREGORIAN
METHOD:PUBLISH
X-WR-CALNAME:Tandem
X-ORIGINAL-URL:https://www.tandembayarea.org
X-WR-CALDESC:Events for Tandem
REFRESH-INTERVAL;VALUE=DURATION:PT1H
X-Robots-Tag:noindex
X-PUBLISHED-TTL:PT1H
BEGIN:VTIMEZONE
TZID:America/Los_Angeles
BEGIN:DAYLIGHT
TZOFFSETFROM:-0800
TZOFFSETTO:-0700
TZNAME:PDT
DTSTART:20240310T100000
END:DAYLIGHT
BEGIN:STANDARD
TZOFFSETFROM:-0700
TZOFFSETTO:-0800
TZNAME:PST
DTSTART:20241103T090000
END:STANDARD
BEGIN:DAYLIGHT
TZOFFSETFROM:-0800
TZOFFSETTO:-0700
TZNAME:PDT
DTSTART:20250309T100000
END:DAYLIGHT
BEGIN:STANDARD
TZOFFSETFROM:-0700
TZOFFSETTO:-0800
TZNAME:PST
DTSTART:20251102T090000
END:STANDARD
BEGIN:DAYLIGHT
TZOFFSETFROM:-0800
TZOFFSETTO:-0700
TZNAME:PDT
DTSTART:20260308T100000
END:DAYLIGHT
BEGIN:STANDARD
TZOFFSETFROM:-0700
TZOFFSETTO:-0800
TZNAME:PST
DTSTART:20261101T090000
END:STANDARD
END:VTIMEZONE
BEGIN:VEVENT
DTSTART;TZID=America/Los_Angeles:20250712T110000
DTEND;TZID=America/Los_Angeles:20250712T130000
DTSTAMP:20260424T054253
CREATED:20250701T153933Z
LAST-MODIFIED:20250701T153933Z
UID:10000709-1752318000-1752325200@www.tandembayarea.org
SUMMARY:Oakley Library's Summer Reading Party
DESCRIPTION:Celebrate Summer Reading! Enjoy a special storytime with a Wayfinder Princess\, an obstacle course with an “amazing” spidey guest\, and the Contra Costa County Library’s Rolling Reader. Do fun activities with our community partners\, including Mt. Diablo Beekeeper’s Association\, Hijas del Campo\, Bike East Bay\, Tandem Partners in Early Learning\, and others. Last but not least\, pick up some of the children’s books that will be on sale at the Friends of the Oakley Library Book Sale. \nRegistration is not required but you can register with an email here to receive an event reminder.
URL:https://www.tandembayarea.org/calendar/oakley-librarys-summer-reading-party/
LOCATION:Oakley Library – Contra Costa County Library\, 1050 Neroly Road\, Oakley\, CA\, 94561\, United States
END:VEVENT
BEGIN:VEVENT
DTSTART;TZID=America/Los_Angeles:20250626T103000
DTEND;TZID=America/Los_Angeles:20250626T110000
DTSTAMP:20260424T054253
CREATED:20250528T202719Z
LAST-MODIFIED:20250528T203808Z
UID:10000705-1750933800-1750935600@www.tandembayarea.org
SUMMARY:Community Read Aloud at Pinole Library
DESCRIPTION:Families with children ages 0-5 are welcome\, no registration needed.
URL:https://www.tandembayarea.org/calendar/community-read-aloud-at-pinole-library-6/
LOCATION:Pinole Public Library\, 2935 Pinole Valley Road\, Pinole\, CA\, 94564\, United States
END:VEVENT
BEGIN:VEVENT
DTSTART;TZID=America/Los_Angeles:20250625T103000
DTEND;TZID=America/Los_Angeles:20250625T120000
DTSTAMP:20260424T054253
CREATED:20250602T163742Z
LAST-MODIFIED:20250602T163742Z
UID:10000708-1750847400-1750852800@www.tandembayarea.org
SUMMARY:OPL Tandem Playgroup
DESCRIPTION:Join Tandem\, Partners in Early Learning at these interactive learning sessions that are designed for both caregivers and children (ages 0-5). Discover new books and literacy/math activities at each session. Free book giveaways\, snacks\, and refreshments for participants. This programming is being funded and made possible by Oakland Fund for Children and Youth.
URL:https://www.tandembayarea.org/calendar/opl-tandem-playgroup/2025-06-25/
LOCATION:Oakland Public Library\, 6833 International Blvd\, Oakland\, CA\, 94621\, United States
END:VEVENT
BEGIN:VEVENT
DTSTART;TZID=America/Los_Angeles:20250624T111500
DTEND;TZID=America/Los_Angeles:20250624T114500
DTSTAMP:20260424T054253
CREATED:20250528T202556Z
LAST-MODIFIED:20250602T165156Z
UID:10000704-1750763700-1750765500@www.tandembayarea.org
SUMMARY:Community Read Aloud at Pittsburg Library
DESCRIPTION:
URL:https://www.tandembayarea.org/calendar/community-read-aloud-at-pittsburg-library-10/
LOCATION:Pittsburg Library – Contra Costa County Library\, 80 Power Ave\, Pittsburg\, CA\, 94565\, United States
END:VEVENT
BEGIN:VEVENT
DTSTART;TZID=America/Los_Angeles:20250618T103000
DTEND;TZID=America/Los_Angeles:20250618T120000
DTSTAMP:20260424T054253
CREATED:20250602T163742Z
LAST-MODIFIED:20250602T163742Z
UID:10000707-1750242600-1750248000@www.tandembayarea.org
SUMMARY:OPL Tandem Playgroup
DESCRIPTION:Join Tandem\, Partners in Early Learning at these interactive learning sessions that are designed for both caregivers and children (ages 0-5). Discover new books and literacy/math activities at each session. Free book giveaways\, snacks\, and refreshments for participants. This programming is being funded and made possible by Oakland Fund for Children and Youth.
URL:https://www.tandembayarea.org/calendar/opl-tandem-playgroup/2025-06-18/
LOCATION:Oakland Public Library\, 6833 International Blvd\, Oakland\, CA\, 94621\, United States
END:VEVENT
BEGIN:VEVENT
DTSTART;TZID=America/Los_Angeles:20250618T100000
DTEND;TZID=America/Los_Angeles:20250618T103000
DTSTAMP:20260424T054253
CREATED:20250528T202433Z
LAST-MODIFIED:20250807T173326Z
UID:10000703-1750240800-1750242600@www.tandembayarea.org
SUMMARY:Community Read Aloud Las Hijas del Campo
DESCRIPTION:
URL:https://www.tandembayarea.org/calendar/community-read-aloud-las-hijas-del-campo-2/
LOCATION:CA
END:VEVENT
BEGIN:VEVENT
DTSTART;TZID=America/Los_Angeles:20250617T103000
DTEND;TZID=America/Los_Angeles:20250617T110000
DTSTAMP:20260424T054253
CREATED:20250528T202259Z
LAST-MODIFIED:20250602T165541Z
UID:10000702-1750156200-1750158000@www.tandembayarea.org
SUMMARY:Community Read Aloud at Ortega Library
DESCRIPTION:Presented in Cantonese
URL:https://www.tandembayarea.org/calendar/community-read-aloud-at-ortega-library-2/
LOCATION:Ortega Branch Library\, 3223 Ortega St\, San Francisco\, CA\, 94122
END:VEVENT
BEGIN:VEVENT
DTSTART;TZID=America/Los_Angeles:20250604T103000
DTEND;TZID=America/Los_Angeles:20250604T120000
DTSTAMP:20260424T054253
CREATED:20250602T163742Z
LAST-MODIFIED:20250602T163742Z
UID:10000706-1749033000-1749038400@www.tandembayarea.org
SUMMARY:OPL Tandem Playgroup
DESCRIPTION:Join Tandem\, Partners in Early Learning at these interactive learning sessions that are designed for both caregivers and children (ages 0-5). Discover new books and literacy/math activities at each session. Free book giveaways\, snacks\, and refreshments for participants. This programming is being funded and made possible by Oakland Fund for Children and Youth.
URL:https://www.tandembayarea.org/calendar/opl-tandem-playgroup/2025-06-04/
LOCATION:Oakland Public Library\, 6833 International Blvd\, Oakland\, CA\, 94621\, United States
END:VEVENT
BEGIN:VEVENT
DTSTART;TZID=America/Los_Angeles:20250527T111500
DTEND;TZID=America/Los_Angeles:20250527T114500
DTSTAMP:20260424T054253
CREATED:20250501T225155Z
LAST-MODIFIED:20250501T225155Z
UID:10000698-1748344500-1748346300@www.tandembayarea.org
SUMMARY:Community Read Aloud at Pittsburg Library
DESCRIPTION:
URL:https://www.tandembayarea.org/calendar/community-read-aloud-at-pittsburg-library-9/
LOCATION:Pittsburg Library – Contra Costa County Library\, 80 Power Ave\, Pittsburg\, CA\, 94565\, United States
END:VEVENT
BEGIN:VEVENT
DTSTART;TZID=America/Los_Angeles:20250527T100000
DTEND;TZID=America/Los_Angeles:20250527T113000
DTSTAMP:20260424T054253
CREATED:20250501T231117Z
LAST-MODIFIED:20250501T231117Z
UID:10000700-1748340000-1748345400@www.tandembayarea.org
SUMMARY:Community Read Aloud SF Parks and Rec
DESCRIPTION:Come enjoy a live story time and nature activities at different parks in the community! Edgewood Center for Children and Families\, Tandem Partners in Early Learning\, and San Francisco Recreation and Parks Department would like to invite you to connect with nature and participate in free activities including a live story reading. \nRegister here!
URL:https://www.tandembayarea.org/calendar/community-read-aloud-sf-parks-and-rec/
LOCATION:La Salle & Whitney Young Circle\, San Francisco\, CA 94124\, La Salle & Whitney Young Circle\, San Francisco\, CA\, 94124\, United States
END:VEVENT
BEGIN:VEVENT
DTSTART;TZID=America/Los_Angeles:20250522T190000
DTEND;TZID=America/Los_Angeles:20250522T203000
DTSTAMP:20260424T054253
CREATED:20240911T231300Z
LAST-MODIFIED:20250422T175327Z
UID:10000553-1747940400-1747945800@www.tandembayarea.org
SUMMARY:Hablando de raza en la primera infancia
DESCRIPTION:En este taller interactivo\, discutiremos las formas en que un enfoque que no hable de distinciones raciales falla en promover la equidad\, y exploramos dos alternativas que pueden ayudarnos a guiar discusiones apropiadas sobre las diferencias raciales y la justicia racial con niñes pequeñes. \nSi tiene un número con CA Workforce Registry\, por favor regístrese aqui: careregistry \nSi no está registrado con CA Workforce Registry\, por favor regístrese directamente aqui: Zoom
URL:https://www.tandembayarea.org/calendar/hablando-de-raza-en-la-primera-infancia/
LOCATION:Zoom
END:VEVENT
BEGIN:VEVENT
DTSTART;TZID=America/Los_Angeles:20250522T103000
DTEND;TZID=America/Los_Angeles:20250522T110000
DTSTAMP:20260424T054253
CREATED:20250429T222658Z
LAST-MODIFIED:20250429T222658Z
UID:10000697-1747909800-1747911600@www.tandembayarea.org
SUMMARY:Community Read Aloud at Pinole Library
DESCRIPTION:
URL:https://www.tandembayarea.org/calendar/community-read-aloud-at-pinole-library-5/
LOCATION:Pinole Public Library\, 2935 Pinole Valley Road\, Pinole\, CA\, 94564\, United States
END:VEVENT
BEGIN:VEVENT
DTSTART;TZID=America/Los_Angeles:20250521T100000
DTEND;TZID=America/Los_Angeles:20250521T103000
DTSTAMP:20260424T054253
CREATED:20240916T220041Z
LAST-MODIFIED:20241113T192416Z
UID:10000580-1747821600-1747823400@www.tandembayarea.org
SUMMARY:Mandarin Zoom Read Aloud
DESCRIPTION:
URL:https://www.tandembayarea.org/calendar/cantonese-zoom-read-aloud-9/
LOCATION:Zoom
ORGANIZER;CN="Tandem%2C Partners in Early Learning":MAILTO:info@tandembayarea.org
END:VEVENT
BEGIN:VEVENT
DTSTART;TZID=America/Los_Angeles:20250520T103000
DTEND;TZID=America/Los_Angeles:20250520T110000
DTSTAMP:20260424T054253
CREATED:20250501T230213Z
LAST-MODIFIED:20250501T230213Z
UID:10000699-1747737000-1747738800@www.tandembayarea.org
SUMMARY:Community Read Aloud at Ortega Library
DESCRIPTION:
URL:https://www.tandembayarea.org/calendar/community-read-aloud-at-ortega-library/
LOCATION:Ortega Branch Library\, 3223 Ortega St\, San Francisco\, CA\, 94122
END:VEVENT
BEGIN:VEVENT
DTSTART;TZID=America/Los_Angeles:20250515T110000
DTEND;TZID=America/Los_Angeles:20250515T113000
DTSTAMP:20260424T054253
CREATED:20250429T222345Z
LAST-MODIFIED:20250429T222345Z
UID:10000696-1747306800-1747308600@www.tandembayarea.org
SUMMARY:Community Read Aloud at Antioch Library
DESCRIPTION:
URL:https://www.tandembayarea.org/calendar/community-read-aloud-at-antioch-library-8/
LOCATION:Antioch Public Library\, 501 West 18th Street\, Meeting Room\, Antioch\, CA\, 94531\, United States
END:VEVENT
BEGIN:VEVENT
DTSTART;TZID=America/Los_Angeles:20250515T100000
DTEND;TZID=America/Los_Angeles:20250515T110000
DTSTAMP:20260424T054253
CREATED:20250501T232623Z
LAST-MODIFIED:20250807T174122Z
UID:10000701-1747303200-1747306800@www.tandembayarea.org
SUMMARY:Community Read Aloud Las Hijas del Campo
DESCRIPTION:
URL:https://www.tandembayarea.org/calendar/community-read-aloud-las-hijas-del-campo/
LOCATION:CA
END:VEVENT
BEGIN:VEVENT
DTSTART;TZID=America/Los_Angeles:20250514T100000
DTEND;TZID=America/Los_Angeles:20250514T103000
DTSTAMP:20260424T054253
CREATED:20240916T215909Z
LAST-MODIFIED:20240916T215909Z
UID:10000579-1747216800-1747218600@www.tandembayarea.org
SUMMARY:Spanish Zoom Read Aloud
DESCRIPTION:
URL:https://www.tandembayarea.org/calendar/spanish-zoom-read-aloud-9/
LOCATION:Zoom
ORGANIZER;CN="Tandem%2C Partners in Early Learning":MAILTO:info@tandembayarea.org
END:VEVENT
BEGIN:VEVENT
DTSTART;TZID=America/Los_Angeles:20250508T190000
DTEND;TZID=America/Los_Angeles:20250508T203000
DTSTAMP:20260424T054253
CREATED:20240911T231022Z
LAST-MODIFIED:20250213T000805Z
UID:10000552-1746730800-1746736200@www.tandembayarea.org
SUMMARY:Talking About Race in Early Childhood
DESCRIPTION:In this interactive workshop\, we will discuss the ways that a colorblind approach fails to advance racial equity\, and explore two alternative methods that support early childhood educators in leading age-appropriate discussions about race with young children. \nIf you have a workforce registry number\, please register at: careregistry \nIf you do not have a CA Workforce registry number\, register at: Zoom
URL:https://www.tandembayarea.org/calendar/talking-about-race-in-early-childhood/
LOCATION:Zoom
END:VEVENT
BEGIN:VEVENT
DTSTART;TZID=America/Los_Angeles:20250507T100000
DTEND;TZID=America/Los_Angeles:20250507T103000
DTSTAMP:20260424T054253
CREATED:20240916T215756Z
LAST-MODIFIED:20240916T215756Z
UID:10000578-1746612000-1746613800@www.tandembayarea.org
SUMMARY:English Zoom Read Aloud
DESCRIPTION:
URL:https://www.tandembayarea.org/calendar/english-zoom-read-aloud-8/
LOCATION:Zoom
ORGANIZER;CN="Tandem%2C Partners in Early Learning":MAILTO:info@tandembayarea.org
END:VEVENT
BEGIN:VEVENT
DTSTART;TZID=America/Los_Angeles:20250427T110000
DTEND;TZID=America/Los_Angeles:20250427T140000
DTSTAMP:20260424T054253
CREATED:20250401T235428Z
LAST-MODIFIED:20250807T174251Z
UID:10000691-1745751600-1745762400@www.tandembayarea.org
SUMMARY:Dia Del Niños with Hijas del Campo
DESCRIPTION:
URL:https://www.tandembayarea.org/calendar/dia-del-ninos-with-hijas-del-campo/
LOCATION:CA
END:VEVENT
BEGIN:VEVENT
DTSTART;TZID=America/Los_Angeles:20250424T103000
DTEND;TZID=America/Los_Angeles:20250424T123000
DTSTAMP:20260424T054253
CREATED:20250402T003116Z
LAST-MODIFIED:20250402T003116Z
UID:10000694-1745490600-1745497800@www.tandembayarea.org
SUMMARY:Children's Fairyland\, Play-and-Learn Group 
DESCRIPTION:To be registered for this event\, please email: carolina@tandembayarea.org 
URL:https://www.tandembayarea.org/calendar/childrens-fairyland-play-and-learn-group/2025-04-24/
LOCATION:Children’s Fairyland\, 699 BELLEVUE AVE\, Oakland\, CA\, 94610\, United States
ATTACH;FMTTYPE=image/jpeg:https://www.tandembayarea.org/wp-content/uploads/2025/04/1743553504930-9c9260b7-5a6d-4009-a170-94548451433a_1.jpg
END:VEVENT
BEGIN:VEVENT
DTSTART;TZID=America/Los_Angeles:20250422T111500
DTEND;TZID=America/Los_Angeles:20250422T114500
DTSTAMP:20260424T054253
CREATED:20250401T234339Z
LAST-MODIFIED:20250401T234339Z
UID:10000690-1745320500-1745322300@www.tandembayarea.org
SUMMARY:Community Read Aloud at Pittsburg Library
DESCRIPTION:
URL:https://www.tandembayarea.org/calendar/community-read-aloud-at-pittsburg-library-8/
LOCATION:Pittsburg Library – Contra Costa County Library\, 80 Power Ave\, Pittsburg\, CA\, 94565\, United States
END:VEVENT
BEGIN:VEVENT
DTSTART;TZID=America/Los_Angeles:20250417T190000
DTEND;TZID=America/Los_Angeles:20250417T203000
DTSTAMP:20260424T054253
CREATED:20240911T230830Z
LAST-MODIFIED:20250213T000524Z
UID:10000551-1744916400-1744921800@www.tandembayarea.org
SUMMARY:Trauma 102 (Español)
DESCRIPTION:Sobre la base de lo que aprendimos en Trauma 101\, profundizaremos en estrategias accionables que apoyan la capacidad de un niñe para regular sus emociones\, desarrollar resiliencia con el tiempo y hablar sobre experiencias pasadas difíciles de manera segura. Esta serie de capacitación fue codiseñada con los Primeros 5 de Contra Costa. \nSi tiene un número con CA Workforce Registry\, por favor regístrese aqui: careregistry \nSi no está registrado con CA Workforce Registry\, por favor regístrese directamente aqui: Zoom 
URL:https://www.tandembayarea.org/calendar/trauma-102-espanol/
LOCATION:Zoom
END:VEVENT
BEGIN:VEVENT
DTSTART;TZID=America/Los_Angeles:20250416T100000
DTEND;TZID=America/Los_Angeles:20250416T103000
DTSTAMP:20260424T054253
CREATED:20240916T215650Z
LAST-MODIFIED:20240916T215650Z
UID:10000577-1744797600-1744799400@www.tandembayarea.org
SUMMARY:Cantonese Zoom Read Aloud
DESCRIPTION:
URL:https://www.tandembayarea.org/calendar/cantonese-zoom-read-aloud-8/
LOCATION:Zoom
ORGANIZER;CN="Tandem%2C Partners in Early Learning":MAILTO:info@tandembayarea.org
END:VEVENT
BEGIN:VEVENT
DTSTART;TZID=America/Los_Angeles:20250412T103000
DTEND;TZID=America/Los_Angeles:20250412T133000
DTSTAMP:20260424T054253
CREATED:20250401T223211Z
LAST-MODIFIED:20250402T201207Z
UID:10000689-1744453800-1744464600@www.tandembayarea.org
SUMMARY:Ready Kids East County Resource Fair
DESCRIPTION:On Saturday\, April 12\, from 10:30 a.m. to 1:30 p.m. at the Marina Community Center in Pittsburg\, First 5 Contra Costa will host an interactive resource fair that will guide participants through the ‘womb to classroom’ journey with resource connections. East County Black and African American families will be able to interact and engage with providers and community partners with valuable resources\, services\, and programs available for each stage of development from pregnancy to Kindergarten. \nClick here for more information and registration! \n 
URL:https://www.tandembayarea.org/calendar/ready-kids-east-county-resource-fair/
LOCATION:Marina Community Center\, 340 Marina Blvd\, Pittsburg\, CA\, 94565\, United States
ATTACH;FMTTYPE=image/png:https://www.tandembayarea.org/wp-content/uploads/2025/04/RKE-Resource-Fair.png
END:VEVENT
BEGIN:VEVENT
DTSTART;TZID=America/Los_Angeles:20250410T190000
DTEND;TZID=America/Los_Angeles:20250410T203000
DTSTAMP:20260424T054253
CREATED:20240911T230612Z
LAST-MODIFIED:20250212T235827Z
UID:10000550-1744311600-1744317000@www.tandembayarea.org
SUMMARY:Trauma 102 (with Cantonese interpretation)
DESCRIPTION:Building on what we learned in trauma 101\, we’ll dive deeper into actionable strategies that support a child’s ability to regulate their emotions\, build resilience over time\, and talk about difficult past experiences in safe ways. This training series was co-designed with First 5 Contra Costa. \nIf you have a workforce registry number\, please register at: careregistry \nIf you do not have a CA Workforce registry number\, register at: Zoom \n  \n基於我們在創傷101中學到的知識，我們將深入研究可操作的策略，以支持孩子調節情緒的能力，隨著時間的推移建立復原能力，並以安全的方式談論艱難的過去經歷。這個訓練系列是與First 5 Contra Costa聯合設計的。 \n如果您已有加州勞動登記处號碼，請在 Careregistry 註冊。 \n如果您尚無加州勞動登記处號碼，請在 Zoom 註冊。
URL:https://www.tandembayarea.org/calendar/trauma-102-with-cantonese-interpretation/
LOCATION:Zoom
END:VEVENT
BEGIN:VEVENT
DTSTART;TZID=America/Los_Angeles:20250410T103000
DTEND;TZID=America/Los_Angeles:20250410T123000
DTSTAMP:20260424T054253
CREATED:20250402T003116Z
LAST-MODIFIED:20250402T003116Z
UID:10000693-1744281000-1744288200@www.tandembayarea.org
SUMMARY:Children's Fairyland\, Play-and-Learn Group 
DESCRIPTION:To be registered for this event\, please email: carolina@tandembayarea.org 
URL:https://www.tandembayarea.org/calendar/childrens-fairyland-play-and-learn-group/2025-04-10/
LOCATION:Children’s Fairyland\, 699 BELLEVUE AVE\, Oakland\, CA\, 94610\, United States
ATTACH;FMTTYPE=image/jpeg:https://www.tandembayarea.org/wp-content/uploads/2025/04/1743553504930-9c9260b7-5a6d-4009-a170-94548451433a_1.jpg
END:VEVENT
BEGIN:VEVENT
DTSTART;TZID=America/Los_Angeles:20250409T100000
DTEND;TZID=America/Los_Angeles:20250409T103000
DTSTAMP:20260424T054253
CREATED:20240916T215548Z
LAST-MODIFIED:20240916T215548Z
UID:10000576-1744192800-1744194600@www.tandembayarea.org
SUMMARY:Spanish Zoom Read Aloud
DESCRIPTION:
URL:https://www.tandembayarea.org/calendar/spanish-zoom-read-aloud-8/
LOCATION:Zoom
ORGANIZER;CN="Tandem%2C Partners in Early Learning":MAILTO:info@tandembayarea.org
END:VEVENT
BEGIN:VEVENT
DTSTART;TZID=America/Los_Angeles:20250405T080000
DTEND;TZID=America/Los_Angeles:20250405T140000
DTSTAMP:20260424T054253
CREATED:20250401T222324Z
LAST-MODIFIED:20250401T222324Z
UID:10000688-1743840000-1743861600@www.tandembayarea.org
SUMMARY:PUSD Congreso Familiar 2025
DESCRIPTION:
URL:https://www.tandembayarea.org/calendar/pusd-congreso-familiar-2025/
LOCATION:Pittsburg High School\, 1750 Harbor St\, Pittsburg\, CA\, 94565\, United States
ATTACH;FMTTYPE=image/png:https://www.tandembayarea.org/wp-content/uploads/2025/04/Flyer-2025-Pittsburg-Conferencia.png
END:VEVENT
BEGIN:VEVENT
DTSTART;TZID=America/Los_Angeles:20250402T103000
DTEND;TZID=America/Los_Angeles:20250402T120000
DTSTAMP:20260424T054253
CREATED:20250402T001829Z
LAST-MODIFIED:20250402T001954Z
UID:10000692-1743589800-1743595200@www.tandembayarea.org
SUMMARY:Oakland Public Library MLK Branch Play-and-Learn Group
DESCRIPTION:
URL:https://www.tandembayarea.org/calendar/oakland-public-library-mlk-branch-play-and-learn-group-2/
LOCATION:Oakland Public Library\, 6833 International Blvd\, Oakland\, CA\, 94621\, United States
ATTACH;FMTTYPE=image/jpeg:https://www.tandembayarea.org/wp-content/uploads/2025/04/1743552475019-e3084d8e-8302-4bfb-b81f-6db91909c7f2_1.jpg
END:VEVENT
END:VCALENDAR