BEGIN:VCALENDAR
VERSION:2.0
PRODID:-//Tandem - ECPv6.15.12//NONSGML v1.0//EN
CALSCALE:GREGORIAN
METHOD:PUBLISH
X-ORIGINAL-URL:https://www.tandembayarea.org
X-WR-CALDESC:Events for Tandem
REFRESH-INTERVAL;VALUE=DURATION:PT1H
X-Robots-Tag:noindex
X-PUBLISHED-TTL:PT1H
BEGIN:VTIMEZONE
TZID:America/Los_Angeles
BEGIN:DAYLIGHT
TZOFFSETFROM:-0800
TZOFFSETTO:-0700
TZNAME:PDT
DTSTART:20240310T100000
END:DAYLIGHT
BEGIN:STANDARD
TZOFFSETFROM:-0700
TZOFFSETTO:-0800
TZNAME:PST
DTSTART:20241103T090000
END:STANDARD
BEGIN:DAYLIGHT
TZOFFSETFROM:-0800
TZOFFSETTO:-0700
TZNAME:PDT
DTSTART:20250309T100000
END:DAYLIGHT
BEGIN:STANDARD
TZOFFSETFROM:-0700
TZOFFSETTO:-0800
TZNAME:PST
DTSTART:20251102T090000
END:STANDARD
BEGIN:DAYLIGHT
TZOFFSETFROM:-0800
TZOFFSETTO:-0700
TZNAME:PDT
DTSTART:20260308T100000
END:DAYLIGHT
BEGIN:STANDARD
TZOFFSETFROM:-0700
TZOFFSETTO:-0800
TZNAME:PST
DTSTART:20261101T090000
END:STANDARD
END:VTIMEZONE
BEGIN:VEVENT
DTSTART;TZID=America/Los_Angeles:20251015T100000
DTEND;TZID=America/Los_Angeles:20251015T103000
DTSTAMP:20260424T000621
CREATED:20250711T224022Z
LAST-MODIFIED:20260328T002241Z
UID:10000734-1760522400-1760524200@www.tandembayarea.org
SUMMARY:Cantonese Zoom Read Aloud
DESCRIPTION:
URL:https://www.tandembayarea.org/calendar/cantonese-zoom-read-aloud-10/2025-10-15/
ORGANIZER;CN="Tandem%2C Partners in Early Learning":MAILTO:info@tandembayarea.org
END:VEVENT
BEGIN:VEVENT
DTSTART;TZID=America/Los_Angeles:20251008T113000
DTEND;TZID=America/Los_Angeles:20251008T123000
DTSTAMP:20260424T000621
CREATED:20251001T153524Z
LAST-MODIFIED:20251001T153524Z
UID:10000819-1759923000-1759926600@www.tandembayarea.org
SUMMARY:Rodeo Library GM5 Math with Pete the Cat
DESCRIPTION:
URL:https://www.tandembayarea.org/calendar/rodeo-library-gm5-math-with-pete-the-cat/
LOCATION:Rodeo Library – Contra Costa County Library\, 220 Pacific Ave\, Rodeo\, CA\, 94572\, United States
END:VEVENT
BEGIN:VEVENT
DTSTART;TZID=America/Los_Angeles:20251008T100000
DTEND;TZID=America/Los_Angeles:20251008T103000
DTSTAMP:20260424T000621
CREATED:20250711T220604Z
LAST-MODIFIED:20260328T001937Z
UID:10000725-1759917600-1759919400@www.tandembayarea.org
SUMMARY:Spanish Zoom Read Aloud
DESCRIPTION:
URL:https://www.tandembayarea.org/calendar/spanish-zoom-read-aloud-10/2025-10-08/
ORGANIZER;CN="Tandem%2C Partners in Early Learning":MAILTO:info@tandembayarea.org
END:VEVENT
BEGIN:VEVENT
DTSTART;TZID=America/Los_Angeles:20251002T103000
DTEND;TZID=America/Los_Angeles:20251002T120000
DTSTAMP:20260424T000621
CREATED:20251001T152454Z
LAST-MODIFIED:20251001T152653Z
UID:10000818-1759401000-1759406400@www.tandembayarea.org
SUMMARY:Children's Fairyland\, Play and Learn Group
DESCRIPTION:Join Tandem\, Partners in Early Learning at these interactive learning sessions that are designed for both caregivers and children (ages 0-5). Discover new books and literacy/math activities at each session. Free book giveaways\, snacks\, and refreshments for participants. This programming is being funded and made possible by Oakland Fund for Children and Youth. \nEmail: carolina@tandembayarea.org to be registered for this event.
URL:https://www.tandembayarea.org/calendar/childrens-fairyland-play-and-learn-group-3/2025-10-02/
LOCATION:Children’s Fairyland\, 699 BELLEVUE AVE\, Oakland\, CA\, 94610\, United States
END:VEVENT
BEGIN:VEVENT
DTSTART;TZID=America/Los_Angeles:20251001T100000
DTEND;TZID=America/Los_Angeles:20251001T103000
DTSTAMP:20260424T000622
CREATED:20250711T215410Z
LAST-MODIFIED:20260328T001634Z
UID:10000716-1759312800-1759314600@www.tandembayarea.org
SUMMARY:English Zoom Read Aloud
DESCRIPTION:
URL:https://www.tandembayarea.org/calendar/english-zoom-read-aloud-10/2025-10-01/
ORGANIZER;CN="Tandem%2C Partners in Early Learning":MAILTO:info@tandembayarea.org
END:VEVENT
BEGIN:VEVENT
DTSTART;TZID=America/Los_Angeles:20250925T103000
DTEND;TZID=America/Los_Angeles:20250925T110000
DTSTAMP:20260424T000622
CREATED:20250902T164411Z
LAST-MODIFIED:20250902T164411Z
UID:10000810-1758796200-1758798000@www.tandembayarea.org
SUMMARY:Community Read Aloud at Pinole Library
DESCRIPTION:
URL:https://www.tandembayarea.org/calendar/community-read-aloud-at-pinole-library-7/
LOCATION:Pinole Public Library\, 2935 Pinole Valley Road\, Pinole\, CA\, 94564\, United States
END:VEVENT
BEGIN:VEVENT
DTSTART;TZID=America/Los_Angeles:20250923T103000
DTEND;TZID=America/Los_Angeles:20250923T110000
DTSTAMP:20260424T000622
CREATED:20250902T164300Z
LAST-MODIFIED:20250902T164300Z
UID:10000809-1758623400-1758625200@www.tandembayarea.org
SUMMARY:Community Read Aloud at Pittsburg Library
DESCRIPTION:
URL:https://www.tandembayarea.org/calendar/community-read-aloud-at-pittsburg-library-13/
LOCATION:Pittsburg Library – Contra Costa County Library\, 80 Power Ave\, Pittsburg\, CA\, 94565\, United States
END:VEVENT
BEGIN:VEVENT
DTSTART;TZID=America/Los_Angeles:20250918T110000
DTEND;TZID=America/Los_Angeles:20250918T120000
DTSTAMP:20260424T000622
CREATED:20250902T164135Z
LAST-MODIFIED:20250902T164135Z
UID:10000808-1758193200-1758196800@www.tandembayarea.org
SUMMARY:Community Read Aloud at Antioch Library
DESCRIPTION:
URL:https://www.tandembayarea.org/calendar/community-read-aloud-at-antioch-library-11/
LOCATION:Antioch Public Library\, 501 West 18th Street\, Meeting Room\, Antioch\, CA\, 94531\, United States
END:VEVENT
BEGIN:VEVENT
DTSTART;TZID=America/Los_Angeles:20250918T103000
DTEND;TZID=America/Los_Angeles:20250918T120000
DTSTAMP:20260424T000622
CREATED:20250902T163354Z
LAST-MODIFIED:20250902T163354Z
UID:10000805-1758191400-1758196800@www.tandembayarea.org
SUMMARY:Children's Fairyland\, Play and Learn Group
DESCRIPTION:Join Tandem\, Partners in Early Learning at these interactive learning sessions that are designed for both caregivers and children (ages 0-5). Discover new books and literacy/math activities at each session. Free book giveaways\, snacks\, and refreshments for participants. This programming is being funded and made possible by Oakland Fund for Children and Youth. \nEmail: carolina@tandembayarea.org to be registered for this event.
URL:https://www.tandembayarea.org/calendar/childrens-fairyland-play-and-learn-group-2/2025-09-18/
LOCATION:Children’s Fairyland\, 699 BELLEVUE AVE\, Oakland\, CA\, 94610\, United States
END:VEVENT
BEGIN:VEVENT
DTSTART;TZID=America/Los_Angeles:20250917T100000
DTEND;TZID=America/Los_Angeles:20250917T103000
DTSTAMP:20260424T000622
CREATED:20250711T224022Z
LAST-MODIFIED:20260328T002241Z
UID:10000733-1758103200-1758105000@www.tandembayarea.org
SUMMARY:Cantonese Zoom Read Aloud
DESCRIPTION:
URL:https://www.tandembayarea.org/calendar/cantonese-zoom-read-aloud-10/2025-09-17/
ORGANIZER;CN="Tandem%2C Partners in Early Learning":MAILTO:info@tandembayarea.org
END:VEVENT
BEGIN:VEVENT
DTSTART;TZID=America/Los_Angeles:20250916T103000
DTEND;TZID=America/Los_Angeles:20250916T110000
DTSTAMP:20260424T000622
CREATED:20250902T163757Z
LAST-MODIFIED:20250902T163757Z
UID:10000807-1758018600-1758020400@www.tandembayarea.org
SUMMARY:Community Read Aloud at Ortega Library
DESCRIPTION:Presented in Cantonese.
URL:https://www.tandembayarea.org/calendar/community-read-aloud-at-ortega-library-5/
END:VEVENT
BEGIN:VEVENT
DTSTART;TZID=America/Los_Angeles:20250910T113000
DTEND;TZID=America/Los_Angeles:20250910T123000
DTSTAMP:20260424T000622
CREATED:20250902T163555Z
LAST-MODIFIED:20250902T163555Z
UID:10000806-1757503800-1757507400@www.tandembayarea.org
SUMMARY:Playgroup at Rodeo Library
DESCRIPTION:
URL:https://www.tandembayarea.org/calendar/playgroup-at-rodeo-library/
LOCATION:Rodeo Library – Contra Costa County Library\, 220 Pacific Ave\, Rodeo\, CA\, 94572\, United States
END:VEVENT
BEGIN:VEVENT
DTSTART;TZID=America/Los_Angeles:20250910T100000
DTEND;TZID=America/Los_Angeles:20250910T103000
DTSTAMP:20260424T000622
CREATED:20250711T220604Z
LAST-MODIFIED:20260328T001937Z
UID:10000724-1757498400-1757500200@www.tandembayarea.org
SUMMARY:Spanish Zoom Read Aloud
DESCRIPTION:
URL:https://www.tandembayarea.org/calendar/spanish-zoom-read-aloud-10/2025-09-10/
ORGANIZER;CN="Tandem%2C Partners in Early Learning":MAILTO:info@tandembayarea.org
END:VEVENT
BEGIN:VEVENT
DTSTART;TZID=America/Los_Angeles:20250904T103000
DTEND;TZID=America/Los_Angeles:20250904T120000
DTSTAMP:20260424T000622
CREATED:20250902T163354Z
LAST-MODIFIED:20250902T163354Z
UID:10000804-1756981800-1756987200@www.tandembayarea.org
SUMMARY:Children's Fairyland\, Play and Learn Group
DESCRIPTION:Join Tandem\, Partners in Early Learning at these interactive learning sessions that are designed for both caregivers and children (ages 0-5). Discover new books and literacy/math activities at each session. Free book giveaways\, snacks\, and refreshments for participants. This programming is being funded and made possible by Oakland Fund for Children and Youth. \nEmail: carolina@tandembayarea.org to be registered for this event.
URL:https://www.tandembayarea.org/calendar/childrens-fairyland-play-and-learn-group-2/2025-09-04/
LOCATION:Children’s Fairyland\, 699 BELLEVUE AVE\, Oakland\, CA\, 94610\, United States
END:VEVENT
BEGIN:VEVENT
DTSTART;TZID=America/Los_Angeles:20250903T100000
DTEND;TZID=America/Los_Angeles:20250903T103000
DTSTAMP:20260424T000622
CREATED:20250711T215410Z
LAST-MODIFIED:20260328T001634Z
UID:10000715-1756893600-1756895400@www.tandembayarea.org
SUMMARY:English Zoom Read Aloud
DESCRIPTION:
URL:https://www.tandembayarea.org/calendar/english-zoom-read-aloud-10/2025-09-03/
ORGANIZER;CN="Tandem%2C Partners in Early Learning":MAILTO:info@tandembayarea.org
END:VEVENT
BEGIN:VEVENT
DTSTART;TZID=America/Los_Angeles:20250826T103000
DTEND;TZID=America/Los_Angeles:20250826T110000
DTSTAMP:20260424T000622
CREATED:20250731T235639Z
LAST-MODIFIED:20250731T235639Z
UID:10000803-1756204200-1756206000@www.tandembayarea.org
SUMMARY:Community Read Aloud at Pittsburg Library
DESCRIPTION:
URL:https://www.tandembayarea.org/calendar/community-read-aloud-at-pittsburg-library-12/
LOCATION:Pittsburg Library – Contra Costa County Library\, 80 Power Ave\, Pittsburg\, CA\, 94565\, United States
END:VEVENT
BEGIN:VEVENT
DTSTART;TZID=America/Los_Angeles:20250821T110000
DTEND;TZID=America/Los_Angeles:20250821T113000
DTSTAMP:20260424T000622
CREATED:20250731T235433Z
LAST-MODIFIED:20250731T235433Z
UID:10000802-1755774000-1755775800@www.tandembayarea.org
SUMMARY:Community Read Aloud at Antioch Library
DESCRIPTION:
URL:https://www.tandembayarea.org/calendar/community-read-aloud-at-antioch-library-10/
LOCATION:Antioch Public Library\, 501 West 18th Street\, Meeting Room\, Antioch\, CA\, 94531\, United States
END:VEVENT
BEGIN:VEVENT
DTSTART;TZID=America/Los_Angeles:20250821T100000
DTEND;TZID=America/Los_Angeles:20250821T110000
DTSTAMP:20260424T000622
CREATED:20250731T233314Z
LAST-MODIFIED:20250807T172811Z
UID:10000746-1755770400-1755774000@www.tandembayarea.org
SUMMARY:Hijas Del Campo Playgroup
DESCRIPTION:
URL:https://www.tandembayarea.org/calendar/hijas-del-campo-playgroup-2/2025-08-21/
END:VEVENT
BEGIN:VEVENT
DTSTART;TZID=America/Los_Angeles:20250819T103000
DTEND;TZID=America/Los_Angeles:20250819T110000
DTSTAMP:20260424T000622
CREATED:20250731T235214Z
LAST-MODIFIED:20250731T235214Z
UID:10000801-1755599400-1755601200@www.tandembayarea.org
SUMMARY:Community Read Aloud at Ortega Library
DESCRIPTION:
URL:https://www.tandembayarea.org/calendar/community-read-aloud-at-ortega-library-4/
LOCATION:Ortega Branch Library\, 3223 Ortega St\, San Francisco\, CA\, 94122
END:VEVENT
BEGIN:VEVENT
DTSTART;TZID=America/Los_Angeles:20250816T090000
DTEND;TZID=America/Los_Angeles:20250816T130000
DTSTAMP:20260424T000622
CREATED:20250731T235025Z
LAST-MODIFIED:20250731T235025Z
UID:10000800-1755334800-1755349200@www.tandembayarea.org
SUMMARY:PUSD Literacy Fair
DESCRIPTION:
URL:https://www.tandembayarea.org/calendar/pusd-literacy-fair/
LOCATION:The Parent Hub Pittsburg\, 351 School Street\, Pittsburg\, CA\, 94565\, United States
END:VEVENT
BEGIN:VEVENT
DTSTART;TZID=America/Los_Angeles:20250814T100000
DTEND;TZID=America/Los_Angeles:20250814T110000
DTSTAMP:20260424T000622
CREATED:20250731T233314Z
LAST-MODIFIED:20250807T172811Z
UID:10000745-1755165600-1755169200@www.tandembayarea.org
SUMMARY:Hijas Del Campo Playgroup
DESCRIPTION:
URL:https://www.tandembayarea.org/calendar/hijas-del-campo-playgroup-2/2025-08-14/
END:VEVENT
BEGIN:VEVENT
DTSTART;TZID=America/Los_Angeles:20250813T110000
DTEND;TZID=America/Los_Angeles:20250813T120000
DTSTAMP:20260424T000622
CREATED:20250731T234047Z
LAST-MODIFIED:20250731T234453Z
UID:10000799-1755082800-1755086400@www.tandembayarea.org
SUMMARY:Rodeo Library Playgroup
DESCRIPTION:
URL:https://www.tandembayarea.org/calendar/rodeo-library-playgroup/
LOCATION:Rodeo Library – Contra Costa County Library\, 220 Pacific Ave\, Rodeo\, CA\, 94572\, United States
END:VEVENT
BEGIN:VEVENT
DTSTART;TZID=America/Los_Angeles:20250807T100000
DTEND;TZID=America/Los_Angeles:20250807T110000
DTSTAMP:20260424T000622
CREATED:20250731T233314Z
LAST-MODIFIED:20250807T172811Z
UID:10000744-1754560800-1754564400@www.tandembayarea.org
SUMMARY:Hijas Del Campo Playgroup
DESCRIPTION:
URL:https://www.tandembayarea.org/calendar/hijas-del-campo-playgroup-2/2025-08-07/
END:VEVENT
BEGIN:VEVENT
DTSTART;TZID=America/Los_Angeles:20250805T180000
DTEND;TZID=America/Los_Angeles:20250805T210000
DTSTAMP:20260424T000622
CREATED:20250731T230231Z
LAST-MODIFIED:20250731T231748Z
UID:10000743-1754416800-1754427600@www.tandembayarea.org
SUMMARY:City of Martinez National Night Out
DESCRIPTION:Tandem\, Partners in Early Learning will be tabling at the City of Martinez National Night Out from 6:00pm-9:00pm. Come by for a Pete the Cat meet-and-greet and pick up some free resources! \nRegister here!
URL:https://www.tandembayarea.org/calendar/city-of-martinez-national-night-out/
LOCATION:Martinez Waterfront Park\, 245 N Court Street\, Martinez\, CA\, 94553\, United States
END:VEVENT
BEGIN:VEVENT
DTSTART;TZID=America/Los_Angeles:20250805T170000
DTEND;TZID=America/Los_Angeles:20250805T200000
DTSTAMP:20260424T000622
CREATED:20250731T224633Z
LAST-MODIFIED:20250807T173749Z
UID:10000742-1754413200-1754424000@www.tandembayarea.org
SUMMARY:City of San Pablo National Night Out
DESCRIPTION:Tandem\, Partners in Early Learning will be tabling at the City of San Pablo National Night Out. Come by and pick up some free resources!
URL:https://www.tandembayarea.org/calendar/city-of-san-pablo-national-night-out/
LOCATION:San Pablo Community Center\, 2450 Road 20\, San Pablo\, CA\, 94806\, United States
END:VEVENT
BEGIN:VEVENT
DTSTART;TZID=America/Los_Angeles:20250731T100000
DTEND;TZID=America/Los_Angeles:20250731T120000
DTSTAMP:20260424T000622
CREATED:20250701T162604Z
LAST-MODIFIED:20250807T173154Z
UID:10000713-1753956000-1753963200@www.tandembayarea.org
SUMMARY:Hijas del Campo Playgroup
DESCRIPTION:
URL:https://www.tandembayarea.org/calendar/hijas-del-campo-playgroup/2025-07-31/
END:VEVENT
BEGIN:VEVENT
DTSTART;TZID=America/Los_Angeles:20250724T100000
DTEND;TZID=America/Los_Angeles:20250724T120000
DTSTAMP:20260424T000622
CREATED:20250701T162604Z
LAST-MODIFIED:20250807T173154Z
UID:10000712-1753351200-1753358400@www.tandembayarea.org
SUMMARY:Hijas del Campo Playgroup
DESCRIPTION:
URL:https://www.tandembayarea.org/calendar/hijas-del-campo-playgroup/2025-07-24/
END:VEVENT
BEGIN:VEVENT
DTSTART;TZID=America/Los_Angeles:20250722T103000
DTEND;TZID=America/Los_Angeles:20250722T110000
DTSTAMP:20260424T000622
CREATED:20250701T160333Z
LAST-MODIFIED:20250701T160333Z
UID:10000710-1753180200-1753182000@www.tandembayarea.org
SUMMARY:Community Read Aloud at Pittsburg Library
DESCRIPTION:Come join our storytime for children ages 0-5! No registration needed.
URL:https://www.tandembayarea.org/calendar/community-read-aloud-at-pittsburg-library-11/
LOCATION:Pittsburg Library – Contra Costa County Library\, 80 Power Ave\, Pittsburg\, CA\, 94565\, United States
END:VEVENT
BEGIN:VEVENT
DTSTART;TZID=America/Los_Angeles:20250717T110000
DTEND;TZID=America/Los_Angeles:20250717T120000
DTSTAMP:20260424T000622
CREATED:20250701T161309Z
LAST-MODIFIED:20250701T164424Z
UID:10000711-1752750000-1752753600@www.tandembayarea.org
SUMMARY:Community Read Aloud at Antioch Library
DESCRIPTION:For children ages 0-5 years old and caregivers. Bilingual English/Spanish. Each storytime lasts approximately 20-30 minutes. After storytime we offer a 30-minute stay-and-play session that allows children and caregivers to meet and interact with our collection of building toys and early literacy activities.
URL:https://www.tandembayarea.org/calendar/community-read-aloud-at-antioch-library-9/
LOCATION:Antioch Public Library\, 501 West 18th Street\, Meeting Room\, Antioch\, CA\, 94531\, United States
END:VEVENT
BEGIN:VEVENT
DTSTART;TZID=America/Los_Angeles:20250715T103000
DTEND;TZID=America/Los_Angeles:20250715T110000
DTSTAMP:20260424T000622
CREATED:20250701T163634Z
LAST-MODIFIED:20250701T163759Z
UID:10000714-1752575400-1752577200@www.tandembayarea.org
SUMMARY:Community Read Aloud at Ortega Library
DESCRIPTION:Come join our interactive storytime for children ages 0-5 in the Ortega Meeting Room! Presented in Cantonese. No registration needed. 
URL:https://www.tandembayarea.org/calendar/community-read-aloud-at-ortega-library-3/
LOCATION:Ortega Branch Library\, 3223 Ortega St\, San Francisco\, CA\, 94122
END:VEVENT
END:VCALENDAR